Package: Travel Version: 1.7.0 Command: rm -rf Travel.buildbin-libdir && mkdir Travel.buildbin-libdir && F:\biocbuild\bbs-3.17-bioc\R\bin\R.exe CMD INSTALL --build --library=Travel.buildbin-libdir Travel_1.7.0.tar.gz StartedAt: 2023-01-06 09:32:38 -0500 (Fri, 06 Jan 2023) EndedAt: 2023-01-06 09:34:12 -0500 (Fri, 06 Jan 2023) EllapsedTime: 94.1 seconds RetCode: 0 Status: OK PackageFile: Travel_1.7.0.zip PackageFileSize: 824.9 KiB