Package: Travel Version: 1.8.0 Command: /home/biocbuild/bbs-3.17-bioc/R/bin/R CMD build --keep-empty-dirs --no-resave-data Travel StartedAt: 2023-10-15 18:50:53 -0400 (Sun, 15 Oct 2023) EndedAt: 2023-10-15 18:51:22 -0400 (Sun, 15 Oct 2023) EllapsedTime: 29.5 seconds RetCode: 1 Status: ERROR PackageFile: None PackageFileSize: NA