Package: Travel Version: 1.8.0 Command: /Library/Frameworks/R.framework/Resources/bin/R CMD INSTALL Travel StartedAt: 2023-10-15 15:06:05 -0400 (Sun, 15 Oct 2023) EndedAt: 2023-10-15 15:07:41 -0400 (Sun, 15 Oct 2023) EllapsedTime: 95.8 seconds RetCode: 1 Status: ERROR