Package: Travel Version: 1.8.0 Command: /Library/Frameworks/R.framework/Resources/bin/R CMD build --keep-empty-dirs --no-resave-data Travel StartedAt: 2023-10-15 21:58:02 -0400 (Sun, 15 Oct 2023) EndedAt: 2023-10-15 21:59:59 -0400 (Sun, 15 Oct 2023) EllapsedTime: 117.0 seconds RetCode: 1 Status: ERROR PackageFile: None PackageFileSize: NA