Package: TransView Version: 1.44.0 Command: chmod a+r TransView -R && F:\biocbuild\bbs-3.17-bioc\R\bin\R.exe CMD build --keep-empty-dirs --no-resave-data TransView StartedAt: 2023-10-15 22:54:55 -0400 (Sun, 15 Oct 2023) EndedAt: 2023-10-15 22:55:38 -0400 (Sun, 15 Oct 2023) EllapsedTime: 43.2 seconds RetCode: 0 Status: OK PackageFile: TransView_1.44.0.tar.gz PackageFileSize: 1.783 MiB