Package: TransView Version: 1.44.0 Command: /home/biocbuild/bbs-3.17-bioc/R/bin/R CMD check --install=check:TransView.install-out.txt --library=/home/biocbuild/bbs-3.17-bioc/R/site-library --timings TransView_1.44.0.tar.gz StartedAt: 2023-10-16 01:51:43 -0400 (Mon, 16 Oct 2023) EndedAt: 2023-10-16 01:53:35 -0400 (Mon, 16 Oct 2023) EllapsedTime: 111.6 seconds RetCode: 0 Status: WARNINGS CheckDir: TransView.Rcheck Warnings: 2