Package: TransView Version: 1.44.0 Command: /home/biocbuild/bbs-3.17-bioc/R/bin/R CMD build --keep-empty-dirs --no-resave-data TransView StartedAt: 2023-10-15 18:50:48 -0400 (Sun, 15 Oct 2023) EndedAt: 2023-10-15 18:51:13 -0400 (Sun, 15 Oct 2023) EllapsedTime: 24.9 seconds RetCode: 0 Status: OK PackageFile: TransView_1.44.0.tar.gz PackageFileSize: 1.858 MiB