Package: TransView Version: 1.44.0 Command: /Library/Frameworks/R.framework/Resources/bin/R CMD INSTALL TransView StartedAt: 2023-10-15 15:19:03 -0400 (Sun, 15 Oct 2023) EndedAt: 2023-10-15 15:20:16 -0400 (Sun, 15 Oct 2023) EllapsedTime: 73.3 seconds RetCode: 0 Status: OK