Package: TrajectoryGeometry Version: 1.8.0 Command: F:\biocbuild\bbs-3.17-bioc\R\bin\R.exe CMD INSTALL TrajectoryGeometry StartedAt: 2023-10-15 16:20:16 -0400 (Sun, 15 Oct 2023) EndedAt: 2023-10-15 16:20:26 -0400 (Sun, 15 Oct 2023) EllapsedTime: 10.3 seconds RetCode: 0 Status: OK