Package: TrajectoryGeometry Version: 1.8.0 Command: F:\biocbuild\bbs-3.17-bioc\R\bin\R.exe CMD check --no-multiarch --install=check:TrajectoryGeometry.install-out.txt --library=F:\biocbuild\bbs-3.17-bioc\R\library --no-vignettes --timings TrajectoryGeometry_1.8.0.tar.gz StartedAt: 2023-10-16 07:45:14 -0400 (Mon, 16 Oct 2023) EndedAt: 2023-10-16 07:46:23 -0400 (Mon, 16 Oct 2023) EllapsedTime: 69.8 seconds RetCode: 0 Status: OK CheckDir: TrajectoryGeometry.Rcheck Warnings: 0