Package: TrajectoryGeometry Version: 1.8.0 Command: chmod a+r TrajectoryGeometry -R && F:\biocbuild\bbs-3.17-bioc\R\bin\R.exe CMD build --keep-empty-dirs --no-resave-data TrajectoryGeometry StartedAt: 2023-10-15 22:54:15 -0400 (Sun, 15 Oct 2023) EndedAt: 2023-10-15 22:58:45 -0400 (Sun, 15 Oct 2023) EllapsedTime: 269.7 seconds RetCode: 0 Status: OK PackageFile: TrajectoryGeometry_1.8.0.tar.gz PackageFileSize: 1.736 MiB