Package: TrajectoryGeometry Version: 1.8.0 Command: /home/biocbuild/bbs-3.17-bioc/R/bin/R CMD check --install=check:TrajectoryGeometry.install-out.txt --library=/home/biocbuild/bbs-3.17-bioc/R/site-library --timings TrajectoryGeometry_1.8.0.tar.gz StartedAt: 2023-10-16 01:49:56 -0400 (Mon, 16 Oct 2023) EndedAt: 2023-10-16 01:55:47 -0400 (Mon, 16 Oct 2023) EllapsedTime: 350.2 seconds RetCode: 0 Status: OK CheckDir: TrajectoryGeometry.Rcheck Warnings: 0