Package: TrajectoryGeometry Version: 1.8.0 Command: rm -rf TrajectoryGeometry.buildbin-libdir && mkdir TrajectoryGeometry.buildbin-libdir && /Users/biocbuild/BBS/utils/build-universal.sh TrajectoryGeometry_1.8.0.tar.gz /Library/Frameworks/R.framework/Resources/bin/R TrajectoryGeometry.buildbin-libdir StartedAt: 2023-10-16 10:22:25 -0400 (Mon, 16 Oct 2023) EndedAt: 2023-10-16 10:22:43 -0400 (Mon, 16 Oct 2023) EllapsedTime: 17.8 seconds RetCode: 0 Status: OK PackageFile: TrajectoryGeometry_1.8.0.tgz PackageFileSize: 1.253 MiB