Package: ToxicoGx Version: 2.4.0 Command: chmod a+r ToxicoGx -R && F:\biocbuild\bbs-3.17-bioc\R\bin\R.exe CMD build --keep-empty-dirs --no-resave-data ToxicoGx StartedAt: 2023-10-15 22:53:11 -0400 (Sun, 15 Oct 2023) EndedAt: 2023-10-15 22:54:36 -0400 (Sun, 15 Oct 2023) EllapsedTime: 84.1 seconds RetCode: 0 Status: OK PackageFile: ToxicoGx_2.4.0.tar.gz PackageFileSize: 3.9 MiB