Package: ToxicoGx Version: 2.4.0 Command: rm -rf ToxicoGx.buildbin-libdir && mkdir ToxicoGx.buildbin-libdir && F:\biocbuild\bbs-3.17-bioc\R\bin\R.exe CMD INSTALL --build --library=ToxicoGx.buildbin-libdir ToxicoGx_2.4.0.tar.gz StartedAt: 2023-10-16 09:39:59 -0400 (Mon, 16 Oct 2023) EndedAt: 2023-10-16 09:40:50 -0400 (Mon, 16 Oct 2023) EllapsedTime: 51.2 seconds RetCode: 0 Status: OK PackageFile: ToxicoGx_2.4.0.zip PackageFileSize: 4.343 MiB