Package: TnT Version: 1.22.0 Command: rm -rf TnT.buildbin-libdir && mkdir TnT.buildbin-libdir && F:\biocbuild\bbs-3.17-bioc\R\bin\R.exe CMD INSTALL --build --library=TnT.buildbin-libdir TnT_1.22.0.tar.gz StartedAt: 2023-10-16 09:39:46 -0400 (Mon, 16 Oct 2023) EndedAt: 2023-10-16 09:40:08 -0400 (Mon, 16 Oct 2023) EllapsedTime: 21.7 seconds RetCode: 0 Status: OK PackageFile: TnT_1.22.0.zip PackageFileSize: 526.3 KiB