Package: TnT Version: 1.22.0 Command: /home/biocbuild/bbs-3.17-bioc/R/bin/R CMD build --keep-empty-dirs --no-resave-data TnT StartedAt: 2023-10-15 18:49:19 -0400 (Sun, 15 Oct 2023) EndedAt: 2023-10-15 18:49:39 -0400 (Sun, 15 Oct 2023) EllapsedTime: 19.9 seconds RetCode: 0 Status: OK PackageFile: TnT_1.22.0.tar.gz PackageFileSize: 230.3 KiB