Package: TnT Version: 1.22.0 Command: /Library/Frameworks/R.framework/Resources/bin/R CMD check --install=check:TnT.install-out.txt --library=/Library/Frameworks/R.framework/Resources/library --no-vignettes --timings TnT_1.22.0.tar.gz StartedAt: 2023-10-16 08:06:08 -0400 (Mon, 16 Oct 2023) EndedAt: 2023-10-16 08:10:15 -0400 (Mon, 16 Oct 2023) EllapsedTime: 247.0 seconds RetCode: 0 Status: OK CheckDir: TnT.Rcheck Warnings: 0