Package: TnT Version: 1.22.0 Command: rm -rf TnT.buildbin-libdir && mkdir TnT.buildbin-libdir && /Users/biocbuild/BBS/utils/build-universal.sh TnT_1.22.0.tar.gz /Library/Frameworks/R.framework/Resources/bin/R TnT.buildbin-libdir StartedAt: 2023-10-16 10:21:44 -0400 (Mon, 16 Oct 2023) EndedAt: 2023-10-16 10:22:35 -0400 (Mon, 16 Oct 2023) EllapsedTime: 50.7 seconds RetCode: 0 Status: OK PackageFile: TnT_1.22.0.tgz PackageFileSize: 522.3 KiB