Package: TitanCNA Version: 1.38.0 Command: chmod a+r TitanCNA -R && F:\biocbuild\bbs-3.17-bioc\R\bin\R.exe CMD build --keep-empty-dirs --no-resave-data TitanCNA StartedAt: 2023-10-15 22:51:57 -0400 (Sun, 15 Oct 2023) EndedAt: 2023-10-15 22:53:48 -0400 (Sun, 15 Oct 2023) EllapsedTime: 110.9 seconds RetCode: 0 Status: OK PackageFile: TitanCNA_1.38.0.tar.gz PackageFileSize: 3.604 MiB