Package: TitanCNA Version: 1.38.0 Command: /Library/Frameworks/R.framework/Resources/bin/R CMD build --keep-empty-dirs --no-resave-data TitanCNA StartedAt: 2023-10-15 21:54:58 -0400 (Sun, 15 Oct 2023) EndedAt: 2023-10-15 21:58:07 -0400 (Sun, 15 Oct 2023) EllapsedTime: 189.5 seconds RetCode: 0 Status: OK PackageFile: TitanCNA_1.38.0.tar.gz PackageFileSize: 3.804 MiB