Package: TitanCNA Version: 1.38.0 Command: rm -rf TitanCNA.buildbin-libdir && mkdir TitanCNA.buildbin-libdir && /Users/biocbuild/BBS/utils/build-universal.sh TitanCNA_1.38.0.tar.gz /Library/Frameworks/R.framework/Resources/bin/R TitanCNA.buildbin-libdir StartedAt: 2023-10-16 10:21:29 -0400 (Mon, 16 Oct 2023) EndedAt: 2023-10-16 10:23:55 -0400 (Mon, 16 Oct 2023) EllapsedTime: 145.5 seconds RetCode: 0 Status: OK PackageFile: TitanCNA_1.38.0.tgz PackageFileSize: 4.099 MiB