Package: TargetScore Version: 1.38.0 Command: chmod a+r TargetScore -R && F:\biocbuild\bbs-3.17-bioc\R\bin\R.exe CMD build --keep-empty-dirs --no-resave-data TargetScore StartedAt: 2023-10-15 22:48:05 -0400 (Sun, 15 Oct 2023) EndedAt: 2023-10-15 22:48:27 -0400 (Sun, 15 Oct 2023) EllapsedTime: 22.1 seconds RetCode: 0 Status: OK PackageFile: TargetScore_1.38.0.tar.gz PackageFileSize: 1.233 MiB