Package: TargetScore Version: 1.38.0 Command: rm -rf TargetScore.buildbin-libdir && mkdir TargetScore.buildbin-libdir && F:\biocbuild\bbs-3.17-bioc\R\bin\R.exe CMD INSTALL --build --library=TargetScore.buildbin-libdir TargetScore_1.38.0.tar.gz StartedAt: 2023-10-16 09:38:22 -0400 (Mon, 16 Oct 2023) EndedAt: 2023-10-16 09:38:37 -0400 (Mon, 16 Oct 2023) EllapsedTime: 15.0 seconds RetCode: 0 Status: OK PackageFile: TargetScore_1.38.0.zip PackageFileSize: 1.264 MiB