Package: TargetDecoy Version: 1.6.0 Command: chmod a+r TargetDecoy -R && F:\biocbuild\bbs-3.17-bioc\R\bin\R.exe CMD build --keep-empty-dirs --no-resave-data TargetDecoy StartedAt: 2023-10-15 22:47:36 -0400 (Sun, 15 Oct 2023) EndedAt: 2023-10-15 22:48:36 -0400 (Sun, 15 Oct 2023) EllapsedTime: 60.1 seconds RetCode: 0 Status: OK PackageFile: TargetDecoy_1.6.0.tar.gz PackageFileSize: 3.557 MiB