Package: TargetDecoy Version: 1.6.0 Command: /home/biocbuild/bbs-3.17-bioc/R/bin/R CMD build --keep-empty-dirs --no-resave-data TargetDecoy StartedAt: 2023-10-15 18:46:14 -0400 (Sun, 15 Oct 2023) EndedAt: 2023-10-15 18:46:48 -0400 (Sun, 15 Oct 2023) EllapsedTime: 34.6 seconds RetCode: 0 Status: OK PackageFile: TargetDecoy_1.6.0.tar.gz PackageFileSize: 3.946 MiB