Package: TarSeqQC Version: 1.30.0 Command: rm -rf TarSeqQC.buildbin-libdir && mkdir TarSeqQC.buildbin-libdir && F:\biocbuild\bbs-3.17-bioc\R\bin\R.exe CMD INSTALL --build --library=TarSeqQC.buildbin-libdir TarSeqQC_1.30.0.tar.gz StartedAt: 2023-10-16 09:38:25 -0400 (Mon, 16 Oct 2023) EndedAt: 2023-10-16 09:39:25 -0400 (Mon, 16 Oct 2023) EllapsedTime: 60.0 seconds RetCode: 0 Status: OK PackageFile: TarSeqQC_1.30.0.zip PackageFileSize: 2.545 MiB