Package: TarSeqQC Version: 1.30.0 Command: /home/biocbuild/bbs-3.17-bioc/R/bin/R CMD INSTALL TarSeqQC StartedAt: 2023-10-15 15:44:42 -0400 (Sun, 15 Oct 2023) EndedAt: 2023-10-15 15:45:22 -0400 (Sun, 15 Oct 2023) EllapsedTime: 40.4 seconds RetCode: 0 Status: OK