Package: TarSeqQC Version: 1.30.0 Command: /home/biocbuild/bbs-3.17-bioc/R/bin/R CMD check --install=check:TarSeqQC.install-out.txt --library=/home/biocbuild/bbs-3.17-bioc/R/site-library --timings TarSeqQC_1.30.0.tar.gz StartedAt: 2023-10-16 01:40:51 -0400 (Mon, 16 Oct 2023) EndedAt: 2023-10-16 01:45:25 -0400 (Mon, 16 Oct 2023) EllapsedTime: 273.8 seconds RetCode: 1 Status: ERROR CheckDir: TarSeqQC.Rcheck Warnings: NA