Package: TarSeqQC Version: 1.30.0 Command: /Library/Frameworks/R.framework/Resources/bin/R CMD INSTALL TarSeqQC StartedAt: 2023-10-15 16:20:27 -0400 (Sun, 15 Oct 2023) EndedAt: 2023-10-15 16:22:42 -0400 (Sun, 15 Oct 2023) EllapsedTime: 135.1 seconds RetCode: 0 Status: OK