Package: TSCAN Version: 1.38.0 Command: /home/biocbuild/bbs-3.17-bioc/R/bin/R CMD INSTALL TSCAN StartedAt: 2023-10-15 15:27:47 -0400 (Sun, 15 Oct 2023) EndedAt: 2023-10-15 15:28:12 -0400 (Sun, 15 Oct 2023) EllapsedTime: 24.8 seconds RetCode: 0 Status: OK