Package: TSCAN Version: 1.38.0 Command: /Library/Frameworks/R.framework/Resources/bin/R CMD build --keep-empty-dirs --no-resave-data TSCAN StartedAt: 2023-10-15 22:00:19 -0400 (Sun, 15 Oct 2023) EndedAt: 2023-10-15 22:02:06 -0400 (Sun, 15 Oct 2023) EllapsedTime: 107.0 seconds RetCode: 0 Status: OK PackageFile: TSCAN_1.38.0.tar.gz PackageFileSize: 2.677 MiB