Package: TRONCO Version: 2.32.0 Command: F:\biocbuild\bbs-3.17-bioc\R\bin\R.exe CMD INSTALL TRONCO StartedAt: 2023-10-15 16:34:34 -0400 (Sun, 15 Oct 2023) EndedAt: 2023-10-15 16:34:58 -0400 (Sun, 15 Oct 2023) EllapsedTime: 24.6 seconds RetCode: 0 Status: OK