Package: TRONCO Version: 2.32.0 Command: rm -rf TRONCO.buildbin-libdir && mkdir TRONCO.buildbin-libdir && F:\biocbuild\bbs-3.17-bioc\R\bin\R.exe CMD INSTALL --build --library=TRONCO.buildbin-libdir TRONCO_2.32.0.tar.gz StartedAt: 2023-10-16 09:41:04 -0400 (Mon, 16 Oct 2023) EndedAt: 2023-10-16 09:41:31 -0400 (Mon, 16 Oct 2023) EllapsedTime: 26.9 seconds RetCode: 0 Status: OK PackageFile: TRONCO_2.32.0.zip PackageFileSize: 3.253 MiB