Package: TRONCO Version: 2.32.0 Command: /home/biocbuild/bbs-3.17-bioc/R/bin/R CMD check --install=check:TRONCO.install-out.txt --library=/home/biocbuild/bbs-3.17-bioc/R/site-library --timings TRONCO_2.32.0.tar.gz StartedAt: 2023-10-16 01:56:12 -0400 (Mon, 16 Oct 2023) EndedAt: 2023-10-16 01:59:53 -0400 (Mon, 16 Oct 2023) EllapsedTime: 220.5 seconds RetCode: 0 Status: OK CheckDir: TRONCO.Rcheck Warnings: 0