Package: TRONCO Version: 2.32.0 Command: /Library/Frameworks/R.framework/Resources/bin/R CMD check --install=check:TRONCO.install-out.txt --library=/Library/Frameworks/R.framework/Resources/library --no-vignettes --timings TRONCO_2.32.0.tar.gz StartedAt: 2023-10-16 08:17:27 -0400 (Mon, 16 Oct 2023) EndedAt: 2023-10-16 08:26:23 -0400 (Mon, 16 Oct 2023) EllapsedTime: 535.6 seconds RetCode: 0 Status: OK CheckDir: TRONCO.Rcheck Warnings: 0