Package: TRONCO Version: 2.32.0 Command: /Library/Frameworks/R.framework/Resources/bin/R CMD build --keep-empty-dirs --no-resave-data TRONCO StartedAt: 2023-10-15 22:00:10 -0400 (Sun, 15 Oct 2023) EndedAt: 2023-10-15 22:02:50 -0400 (Sun, 15 Oct 2023) EllapsedTime: 159.4 seconds RetCode: 0 Status: OK PackageFile: TRONCO_2.32.0.tar.gz PackageFileSize: 4.087 MiB