Package: TRONCO Version: 2.32.0 Command: rm -rf TRONCO.buildbin-libdir && mkdir TRONCO.buildbin-libdir && /Users/biocbuild/BBS/utils/build-universal.sh TRONCO_2.32.0.tar.gz /Library/Frameworks/R.framework/Resources/bin/R TRONCO.buildbin-libdir StartedAt: 2023-10-16 10:23:13 -0400 (Mon, 16 Oct 2023) EndedAt: 2023-10-16 10:24:00 -0400 (Mon, 16 Oct 2023) EllapsedTime: 46.8 seconds RetCode: 0 Status: OK PackageFile: TRONCO_2.32.0.tgz PackageFileSize: 4.591 MiB