Package: TRESS Version: 1.6.0 Command: chmod a+r TRESS -R && F:\biocbuild\bbs-3.17-bioc\R\bin\R.exe CMD build --keep-empty-dirs --no-resave-data TRESS StartedAt: 2023-10-15 22:56:01 -0400 (Sun, 15 Oct 2023) EndedAt: 2023-10-15 22:56:55 -0400 (Sun, 15 Oct 2023) EllapsedTime: 53.4 seconds RetCode: 1 Status: ERROR PackageFile: None PackageFileSize: NA