Package: TRESS Version: 1.6.0 Command: /home/biocbuild/bbs-3.17-bioc/R/bin/R CMD build --keep-empty-dirs --no-resave-data TRESS StartedAt: 2023-10-15 18:51:22 -0400 (Sun, 15 Oct 2023) EndedAt: 2023-10-15 18:52:46 -0400 (Sun, 15 Oct 2023) EllapsedTime: 83.6 seconds RetCode: 0 Status: OK PackageFile: TRESS_1.6.0.tar.gz PackageFileSize: 1.079 MiB