Package: TRESS Version: 1.6.0 Command: /Library/Frameworks/R.framework/Resources/bin/R CMD check --install=check:TRESS.install-out.txt --library=/Library/Frameworks/R.framework/Resources/library --no-vignettes --timings TRESS_1.6.0.tar.gz StartedAt: 2023-10-16 08:14:35 -0400 (Mon, 16 Oct 2023) EndedAt: 2023-10-16 08:28:00 -0400 (Mon, 16 Oct 2023) EllapsedTime: 805.1 seconds RetCode: 0 Status: OK CheckDir: TRESS.Rcheck Warnings: 0