Package: TRESS Version: 1.6.0 Command: /Library/Frameworks/R.framework/Resources/bin/R CMD build --keep-empty-dirs --no-resave-data TRESS StartedAt: 2023-10-15 21:58:54 -0400 (Sun, 15 Oct 2023) EndedAt: 2023-10-15 22:02:29 -0400 (Sun, 15 Oct 2023) EllapsedTime: 215.0 seconds RetCode: 0 Status: OK PackageFile: TRESS_1.6.0.tar.gz PackageFileSize: 1.091 MiB