Package: TRESS Version: 1.6.0 Command: rm -rf TRESS.buildbin-libdir && mkdir TRESS.buildbin-libdir && /Users/biocbuild/BBS/utils/build-universal.sh TRESS_1.6.0.tar.gz /Library/Frameworks/R.framework/Resources/bin/R TRESS.buildbin-libdir StartedAt: 2023-10-16 10:22:58 -0400 (Mon, 16 Oct 2023) EndedAt: 2023-10-16 10:24:57 -0400 (Mon, 16 Oct 2023) EllapsedTime: 118.4 seconds RetCode: 0 Status: OK PackageFile: TRESS_1.6.0.tgz PackageFileSize: 1.147 MiB