Package: TREG Version: 1.4.0 Command: chmod a+r TREG -R && F:\biocbuild\bbs-3.17-bioc\R\bin\R.exe CMD build --keep-empty-dirs --no-resave-data TREG StartedAt: 2023-10-15 22:55:46 -0400 (Sun, 15 Oct 2023) EndedAt: 2023-10-15 22:57:39 -0400 (Sun, 15 Oct 2023) EllapsedTime: 112.5 seconds RetCode: 0 Status: OK PackageFile: TREG_1.4.0.tar.gz PackageFileSize: 1.624 MiB