Package: TREG Version: 1.4.0 Command: rm -rf TREG.buildbin-libdir && mkdir TREG.buildbin-libdir && F:\biocbuild\bbs-3.17-bioc\R\bin\R.exe CMD INSTALL --build --library=TREG.buildbin-libdir TREG_1.4.0.tar.gz StartedAt: 2023-10-16 09:40:38 -0400 (Mon, 16 Oct 2023) EndedAt: 2023-10-16 09:41:04 -0400 (Mon, 16 Oct 2023) EllapsedTime: 25.5 seconds RetCode: 0 Status: OK PackageFile: TREG_1.4.0.zip PackageFileSize: 1.644 MiB