Package: TREG Version: 1.4.0 Command: /home/biocbuild/bbs-3.17-bioc/R/bin/R CMD INSTALL TREG StartedAt: 2023-10-15 15:11:56 -0400 (Sun, 15 Oct 2023) EndedAt: 2023-10-15 15:12:16 -0400 (Sun, 15 Oct 2023) EllapsedTime: 19.6 seconds RetCode: 0 Status: OK