Package: TREG Version: 1.4.0 Command: /home/biocbuild/bbs-3.17-bioc/R/bin/R CMD build --keep-empty-dirs --no-resave-data TREG StartedAt: 2023-10-15 18:51:16 -0400 (Sun, 15 Oct 2023) EndedAt: 2023-10-15 18:52:59 -0400 (Sun, 15 Oct 2023) EllapsedTime: 103.7 seconds RetCode: 0 Status: OK PackageFile: TREG_1.4.0.tar.gz PackageFileSize: 2.332 MiB