Package: TREG Version: 1.4.0 Command: /Library/Frameworks/R.framework/Resources/bin/R CMD build --keep-empty-dirs --no-resave-data TREG StartedAt: 2023-10-15 21:58:30 -0400 (Sun, 15 Oct 2023) EndedAt: 2023-10-15 22:02:11 -0400 (Sun, 15 Oct 2023) EllapsedTime: 221.2 seconds RetCode: 0 Status: OK PackageFile: TREG_1.4.0.tar.gz PackageFileSize: 2.348 MiB