Package: TREG Version: 1.4.0 Command: rm -rf TREG.buildbin-libdir && mkdir TREG.buildbin-libdir && /Users/biocbuild/BBS/utils/build-universal.sh TREG_1.4.0.tar.gz /Library/Frameworks/R.framework/Resources/bin/R TREG.buildbin-libdir StartedAt: 2023-10-16 10:22:46 -0400 (Mon, 16 Oct 2023) EndedAt: 2023-10-16 10:23:53 -0400 (Mon, 16 Oct 2023) EllapsedTime: 66.1 seconds RetCode: 0 Status: OK PackageFile: TREG_1.4.0.tgz PackageFileSize: 2.365 MiB