Package: TPP2D Version: 1.16.0 Command: F:\biocbuild\bbs-3.17-bioc\R\bin\R.exe CMD check --no-multiarch --install=check:TPP2D.install-out.txt --library=F:\biocbuild\bbs-3.17-bioc\R\library --no-vignettes --timings TPP2D_1.16.0.tar.gz StartedAt: 2023-10-16 07:43:50 -0400 (Mon, 16 Oct 2023) EndedAt: 2023-10-16 07:45:43 -0400 (Mon, 16 Oct 2023) EllapsedTime: 112.8 seconds RetCode: 0 Status: OK CheckDir: TPP2D.Rcheck Warnings: 0